BEGIN:VCALENDAR
VERSION:2.0
PRODID:-//EXTREME MUSIC EVENTS - ECPv5.16.4//NONSGML v1.0//EN
CALSCALE:GREGORIAN
METHOD:PUBLISH
X-WR-CALNAME:EXTREME MUSIC EVENTS
X-ORIGINAL-URL:https://extrememusicevents.com
X-WR-CALDESC:Eventos para EXTREME MUSIC EVENTS
BEGIN:VTIMEZONE
TZID:Europe/Madrid
BEGIN:DAYLIGHT
TZOFFSETFROM:+0100
TZOFFSETTO:+0200
TZNAME:CEST
DTSTART:20240331T010000
END:DAYLIGHT
BEGIN:STANDARD
TZOFFSETFROM:+0200
TZOFFSETTO:+0100
TZNAME:CET
DTSTART:20241027T010000
END:STANDARD
END:VTIMEZONE
BEGIN:VEVENT
DTSTART;TZID=Europe/Madrid:20240903T203000
DTEND;TZID=Europe/Madrid:20240903T233000
DTSTAMP:20260424T194314
CREATED:20240901T225737Z
LAST-MODIFIED:20240901T225737Z
UID:9527-1725395400-1725406200@extrememusicevents.com
SUMMARY:VETUSTA MORLA
DESCRIPTION:Vetusta Morla regresa a las salas para despedirse de los escenarios hasta 2026. Razzmatazz y La Riviera acogerán los últimos cuatro conciertos de la banda este 2024. Serán los días 3 y 4 de septiembre en Barcelona\, y el 8 y el 9 en Madrid.\n\nVetusta Morla se encuentra actualmente presentando en directo\, además de su amplia colección de himnos\, algunas de las canciones de Figurantes\, su último y séptimo álbum de estudio\, publicado el pasado 31 de mayo. Figurantes fue grabado durante los descansos de la gira de Cable a Tierra  (2022/23) cambiando el habitual proceso condensado de composición por visitas periódicas a diferentes estudios para terminar de dar forma a once canciones que les venían rondando desde hacía tiempo. Temas que nacieron con la excitación de saberse únicos\, desligados de un concepto previo\, reclamando un vuelo libre para crecer y ser registrados.\n\nVetusta Morla ha usado todos los instrumentos\, procesos y técnicas aprendidas en sus más 25 años de carrera para construir esta poderosa colección de canciones. Aparece la banda sonando a banda: enérgica\, grabando juntos en la misma sala y también la banda que busca nuevos caminos de producción en el estudio\, muchos de ellos desconocidos para el propio grupo\, para llegar siempre al mismo destino: LA CANCIÓN\, la mejor canción posible. \n\nENTRADAS: \nwww.esmerarte.com/comprar-entradas-conciertos/
URL:https://extrememusicevents.com/previa/vetusta-morla/
LOCATION:RAZZMATAZZ 1\, Carrer dels Almogàvers\, 122\, BARCELONA\, BARCELONA\, 08018\, España
ATTACH;FMTTYPE=image/jpeg:https://extrememusicevents.com/wp-content/uploads/2024/09/2024-09-03-Vetusta-Morla.jpg
END:VEVENT
END:VCALENDAR