BEGIN:VCALENDAR
VERSION:2.0
PRODID:-//EXTREME MUSIC EVENTS - ECPv5.16.4//NONSGML v1.0//EN
CALSCALE:GREGORIAN
METHOD:PUBLISH
X-WR-CALNAME:EXTREME MUSIC EVENTS
X-ORIGINAL-URL:https://extrememusicevents.com
X-WR-CALDESC:Eventos para EXTREME MUSIC EVENTS
BEGIN:VTIMEZONE
TZID:Europe/Madrid
BEGIN:DAYLIGHT
TZOFFSETFROM:+0100
TZOFFSETTO:+0200
TZNAME:CEST
DTSTART:20220327T010000
END:DAYLIGHT
BEGIN:STANDARD
TZOFFSETFROM:+0200
TZOFFSETTO:+0100
TZNAME:CET
DTSTART:20221030T010000
END:STANDARD
END:VTIMEZONE
BEGIN:VEVENT
DTSTART;TZID=Europe/Madrid:20221119T210000
DTEND;TZID=Europe/Madrid:20221119T233000
DTSTAMP:20260422T160339
CREATED:20220831T233609Z
LAST-MODIFIED:20220831T233609Z
UID:8024-1668891600-1668900600@extrememusicevents.com
SUMMARY:VIVA SUECIA
DESCRIPTION:Viva Suecia es la nueva gran banda de la escena alternativa en España. En poco más de cinco años y con sólo tres álbumes\, Rafa Val (voz y guitarra)\, Alberto Cantúa (guitarra)\, Jess Fabric (bajo) y Fernando Campillo (batería) han pulverizado las listas hasta convertirse en una de las bandas más importantes del indie rock nacional. \nEste 2022 llega el cuarto álbum de la banda\, con el que pretenden romper un nuevo techo. No hemos aprendido nada y Justo cuando el mundo apriete\, en colaboración con Leiva\, son dos himnos instantáneos que dejan entrever lo que será sin duda su mejor disco. \nPasión\, contundencia melódica\, arreglos majestuosos y guitarras épicas que en directo se convierten en un espléndido arsenal de hits. ¡Ven a comprobarlo el 19 de noviembre en la Sala Razzmatazz\, en un concierto que hará vibrar el Cruïlla Tardor! \n  \nENTRADAS: \nwww.concerts.cruillabarcelona.com/ca/
URL:https://extrememusicevents.com/previa/viva-suecia/
LOCATION:RAZZMATAZZ 1\, Carrer dels Almogàvers\, 122\, BARCELONA\, BARCELONA\, 08018\, España
ATTACH;FMTTYPE=image/jpeg:https://extrememusicevents.com/wp-content/uploads/2022/09/Cruilla-Tardor-2-2022.jpg
END:VEVENT
END:VCALENDAR