BEGIN:VCALENDAR
VERSION:2.0
PRODID:-//EXTREME MUSIC EVENTS - ECPv5.16.4//NONSGML v1.0//EN
CALSCALE:GREGORIAN
METHOD:PUBLISH
X-WR-CALNAME:EXTREME MUSIC EVENTS
X-ORIGINAL-URL:https://extrememusicevents.com
X-WR-CALDESC:Eventos para EXTREME MUSIC EVENTS
BEGIN:VTIMEZONE
TZID:Europe/Madrid
BEGIN:DAYLIGHT
TZOFFSETFROM:+0100
TZOFFSETTO:+0200
TZNAME:CEST
DTSTART:20220327T010000
END:DAYLIGHT
BEGIN:STANDARD
TZOFFSETFROM:+0200
TZOFFSETTO:+0100
TZNAME:CET
DTSTART:20221030T010000
END:STANDARD
END:VTIMEZONE
BEGIN:VEVENT
DTSTART;TZID=Europe/Madrid:20221112T190000
DTEND;TZID=Europe/Madrid:20221112T190000
DTSTAMP:20260422T211027
CREATED:20221012T103559Z
LAST-MODIFIED:20221012T103630Z
UID:8144-1668279600-1668279600@extrememusicevents.com
SUMMARY:We Lost The Sea
DESCRIPTION:Portadores de la antorcha del post-metal y el post-rock en Australia\, We Lost The Sea presentará finalmente su último trabajo en nuestro país en medio de la que venía siendo la habitual vorágine de giras otoñales. \nLanzado en 2019\, no ha sido hasta que la pandemia ha amainado que los de Sidney han podido embarcarse en una gira europea para presentar «Triumph & Disaster»\, un soberbio ejercicio instrumental cuyo monumental tema de inicio\, «Towers»\, nos ayuda a hacernos una idea de lo que encontraremos: composiciones audaces respaldadas por un sonido denso cuya arquitectura emocional puede cobrar proporciones descomunales. \nEn palabras de la propia banda\, «Triumph & Disaster ofrece una visión post-apocalíptica sobre el colapso del mundo […] La música es la narrativa de la destrucción y la tragedia. Cada nota cuenta una historia de amor\, pérdida y abandono.» \nToma nota porque el próximo viernes 11 de noviembre y sábado 12 de noviembre de 2022 We Lost The Sea aterrizan en Madrid y Barcelona respectivamente para ofrecer un recital que promete ser inolvidable. ¡Allí nos vemos! \n  \nENTRADAS: \nhttps://ticketmadness.es/es/
URL:https://extrememusicevents.com/previa/we-lost-the-sea/
LOCATION:RAZZMATAZZ 3\, Pamplona 88\, BARCELONA\, BARCELONA\, 08018\, España
ATTACH;FMTTYPE=image/jpeg:https://extrememusicevents.com/wp-content/uploads/2022/10/2022-11-12-we-lost-the-sea.jpg
END:VEVENT
END:VCALENDAR